BEGIN:VCALENDAR
CALSCALE:GREGORIAN
METHOD:PUBLISH
VERSION:2.0
PRODID:-//iCalWriter OpenSource Project//iCalWriter 0.8.1//EN
BEGIN:VEVENT
DTSTAMP:20260423T165755Z
UID:1776963475XOgb@www.stadt-landsberg.de
DTSTART;VALUE=DATE:20220819
DTEND;VALUE=DATE:20220821
SUMMARY:Bergfest
DESCRIPTION:Freitag, 19.08.2022: ab 19 Uhr
Samstag, 20.08.2022: ab 13 Uhr
Sonntag, 21.08.2022: ab 10:30 Uhr
Die Details zu den einzelnen Tagen entnehmen Sie bitte dem Flyer. 
Das Fassrollen musste leider abgesagt werden.
LOCATION:Freilichtbühne Landsberg 
		06188 Landsberg
	
CATEGORIES:Musik,Volksfeste/ Märkte
URL:https://www.stadt-landsberg.de/de/vak-ausgabe/event/8936,1290/bergfest-19-08-2022.html
ATTACH:https://www.stadt-landsberg.de/de/datei/anzeigen/id/8942,1290/druckversion_flyer_bergfest_2022_innenseite_neu__2_.jpg
END:VEVENT
END:VCALENDAR
