BEGIN:VCALENDAR
CALSCALE:GREGORIAN
METHOD:PUBLISH
VERSION:2.0
PRODID:-//iCalWriter OpenSource Project//iCalWriter 0.8.1//EN
BEGIN:VEVENT
DTSTAMP:20260422T134332Z
UID:1776865412t3vc@www.stadt-landsberg.de
DTSTART:20260604T170000
DTEND:20260604T190000
SUMMARY:Kostenloser Fördermittel-Workshop für Vereine
DESCRIPTION:Der Workshop bietet praxisnahe Einblicke und hilfreiche Tipps, um Fördermöglichkeiten erfolgreich zu nutzen. Der WS wird durch den Burgstetten-Verein und die Freiwilligen-Agentur-Halle durchgeführt.
LOCATION:Alte Brennerei - Niemberg 06188 Landsberg OT Niemberg
Burgstettenverein e.V. 06188 Landsberg
CATEGORIES:Fachmessen/ -veranstaltungen
URL:https://www.stadt-landsberg.de/de/vak-ausgabe/event/33869,1290/kostenloser-foerdermittel-workshop-fuer-vereine-04-06-2026.html
ATTACH:https://www.stadt-landsberg.de/de/datei/anzeigen/id/33870,1290/20260604_workshop_foerdergelder_.jpg
END:VEVENT
END:VCALENDAR
