BEGIN:VCALENDAR
CALSCALE:GREGORIAN
METHOD:PUBLISH
VERSION:2.0
PRODID:-//iCalWriter OpenSource Project//iCalWriter 0.8.1//EN
BEGIN:VEVENT
DTSTAMP:20260422T111435Z
UID:1776856475FGDo@www.stadt-landsberg.de
DTSTART:20260516T100000
DTEND:20260516T100000
SUMMARY:Arbeitseinsatz am Burgstetten "Gegen das Orientalische Zackenschötchen!"
DESCRIPTION:Im FFH-Gebiet rund um den Burgstetten bei Niemberg Brachstedt breitete sich das Orientalische Zackenschötchen aus und bedroht die heimische Flora. Wir möchten dagegen vorgehen und die Ausbreitung eindämmen.
LOCATION:Burgstetten Niemberg - Brachstedt 06188 Landsberg
Burgstettenverein e.V. 06188 Landsberg
CATEGORIES:Sonstiges
URL:https://www.stadt-landsberg.de/de/vak-ausgabe/event/33778,1290/arbeitseinsatz-am-burgstetten-gegen-das-orientalische-zackenschoetchen-16-05-2026.html
ATTACH:https://www.stadt-landsberg.de/de/datei/anzeigen/id/33779,1290/zackenschoetchen_flyer.jpg
END:VEVENT
END:VCALENDAR
