BEGIN:VCALENDAR
CALSCALE:GREGORIAN
METHOD:PUBLISH
VERSION:2.0
PRODID:-//iCalWriter OpenSource Project//iCalWriter 0.8.1//EN
BEGIN:VEVENT
DTSTAMP:20260422T093914Z
UID:1776850754MaTR@www.stadt-landsberg.de
DTSTART:20260626T190000
DTEND;VALUE=DATE:20260626
SUMMARY:Open Air Konzert mit der Band "Tänzchentee"
DESCRIPTION:Open Air Konzert mit Tänzchentee und DJ Scheibe & Der Maik.
LOCATION:Sportgelände Niemberg 06188 Landsberg / Niemberg
TSV 1910 Niemberg e.V. 06188 Landsberg / Niemberg
CATEGORIES:Musik
URL:https://www.stadt-landsberg.de/de/vak-ausgabe/event/33253,1290/open-air-konzert-mit-der-band-taenzchentee-26-06-2026.html
ATTACH:https://www.stadt-landsberg.de/de/datei/anzeigen/id/33254,1290/taenzchentee.jpg
END:VEVENT
END:VCALENDAR
