BEGIN:VCALENDAR
CALSCALE:GREGORIAN
METHOD:PUBLISH
VERSION:2.0
PRODID:-//iCalWriter OpenSource Project//iCalWriter 0.8.1//EN
BEGIN:VEVENT
DTSTAMP:20260421T084830Z
UID:1776761310Ov1g@www.stadt-landsberg.de
DTSTART:20260207T200000
DTEND:20260208T010000
SUMMARY:Sietzsch feiert - die MEGA Faschingsparty
DESCRIPTION:Am 07.02.2026 wird das Kulturhaus „Zur Sonne“ in Sietzsch wieder zur absoluten Partyzone, denn Sietzsch feiert - Die MEGA Faschingsparty!  Egal ob 80s, 90s, 2000er, 2010er oder die fettesten Partyhits von heute – hier bleibt garantiert niemand still stehen. Die Playlist ballert, die Stimmung knallt und der Boden bebt.  𝗞𝗼𝘀𝘁𝘂̈𝗺? Gerne! Muss aber nicht.Wer verkleidet kommt, wird belohnt – gratis Begrüßungsschnaps inklusive!  Kein Kostüm? Kein Problem. Hauptsache, du bringst gute Laune mit.  𝗪𝗔𝗡𝗡: Samstag, 07.02.2026𝗪𝗢: „Zur Sonne“ Sietzsch𝗕𝗘𝗚𝗜𝗡𝗡: 20:00 Uhr𝗞𝗮𝗿𝘁𝗲𝗻𝘃𝗼𝗿𝘃𝗲𝗿𝗸𝗮𝘂𝗳  Der Kartenvorverkauf findet ausschließlich 𝟭𝟵.𝟬𝟭., 𝟮𝟲.𝟬𝟭. & 𝟬𝟮.𝟬𝟮.𝟮𝟬𝟮𝟲 𝟭𝟴:𝟯𝟬-𝟭𝟵:𝟬𝟬 Uhr im Bürgerhaus „Zur Sonne“ statt.Bitte beachten: nur Barzahlung möglich!𝗘𝗶𝗻𝘁𝗿𝗶𝘁𝘁: 5,- €Also: Termin merken, Karten sichern und 𝗦𝗶𝗲𝘁𝘇𝘀𝗰𝗵 𝗱𝗶𝗲 𝗳𝗲𝘁𝘁𝗲𝘀𝘁𝗲 𝗙𝗮𝘀𝗰𝗵𝗶𝗻𝗴𝘀𝗽𝗮𝗿𝘁𝘆 𝗯𝗲𝘀𝗰𝗵𝗲𝗿𝗲𝗻! 
LOCATION:Bürgerhaus "Zur Sonne" Sietzsch 06188 Landsberg / Sietzsch
Landsberger Spassverein e.V. 06188 Landsberg
CATEGORIES:Musik
URL:https://www.stadt-landsberg.de/de/vak-ausgabe/event/32897,1290/sietzsch-feiert---die-mega-faschingsparty-07-02-2026.html
ATTACH:https://www.stadt-landsberg.de/de/datei/anzeigen/id/32898,1290/sietzsch_feiert_q1_2026.png
END:VEVENT
END:VCALENDAR
