BEGIN:VCALENDAR
CALSCALE:GREGORIAN
METHOD:PUBLISH
VERSION:2.0
PRODID:-//iCalWriter OpenSource Project//iCalWriter 0.8.1//EN
BEGIN:VEVENT
DTSTAMP:20260420T094355Z
UID:1776678235JnOv@www.stadt-landsberg.de
DTSTART:20250906T100000
DTEND:20250906T220000
SUMMARY:Jubiläumsfeier der FFW Sietzsch
DESCRIPTION:Wir feiern 130 Jahre Löschwesen Lohnsdorf, 90 Jahre FF Sietzsch, 30 Jahre Jugendfeuerwehr, 5 Jahre Kinderfeuerwehr
Es wird ein buntes Programm mit Feuerwehr-Parcours, Kinderfeuerwehr-Parcours sowie Snacks u. Getränke geben.
LOCATION:Feuerwehr Sietzsch e.V. 06188 Landsberg / Sietzsch
CATEGORIES:Sonstiges
URL:https://www.stadt-landsberg.de/de/vak-ausgabe/event/31104,1290/jubilaeumsfeier-der-ffw-sietzsch-06-09-2025.html
ATTACH:https://www.stadt-landsberg.de/de/datei/anzeigen/id/31105,1290/img-20250803-wa0014[1].jpg
END:VEVENT
END:VCALENDAR
