BEGIN:VCALENDAR
CALSCALE:GREGORIAN
METHOD:PUBLISH
VERSION:2.0
PRODID:-//iCalWriter OpenSource Project//iCalWriter 0.8.1//EN
BEGIN:VEVENT
DTSTAMP:20260421T100604Z
UID:1776765964DlTV@www.stadt-landsberg.de
DTSTART:20250802T190000
DTEND:20250802T223000
SUMMARY:30. Offene Bühne Landsberg (Sommerbühne)
DESCRIPTION:Die 30. Offene Bühne Landsberg findet diesmal in der wunderschönen Kulturkirche Gütz statt.
Die Darbietenden sind:
Sound Of Tunes (Gesangsgruppe)
Jens Dammann (Country-Sänger)
Dragonfly & Pilot feat. Bass (Gesangs-Trio)
LOCATION:Kulturkirche Gütz 06188 Landsberg
Offene Bühne Landsberg e.V. 06188 Landsberg
CATEGORIES:Musik
URL:https://www.stadt-landsberg.de/de/vak-ausgabe/event/30632,1290/30-offene-buehne-landsberg-sommerbuehne-02-08-2025.html
ATTACH:https://www.stadt-landsberg.de/de/datei/anzeigen/id/30633,1290/offene-30-buehne-landsberg-2025_img_6835-02-08-2025-sommeredition-guetz2.jpg
END:VEVENT
END:VCALENDAR
