BEGIN:VCALENDAR
CALSCALE:GREGORIAN
METHOD:PUBLISH
VERSION:2.0
PRODID:-//iCalWriter OpenSource Project//iCalWriter 0.8.1//EN
BEGIN:VEVENT
DTSTAMP:20260420T094335Z
UID:17766782154fH2@www.stadt-landsberg.de
DTSTART:20250613T200000
DTEND:20250613T230000
SUMMARY:LSV PartyNacht
DESCRIPTION:Es ist wieder soweit…Die LSV PartyNacht ist zurück!Feiert mit uns, dem Landsberger Spaßverein, einen Abend lang zu den besten Beats aus den 80er, 90er und 2000er und den besten Party Hits von heute!Auch dieses mal bereits einen Tag vor unserem GROSSEN SUMMER OpenAir die LSV PartyNacht!
LOCATION:Freilichtbühne Landsberg 
		06188 Landsberg
	
Landsberger Spassverein e.V. 06188 Landsberg
CATEGORIES:Musik
URL:https://www.stadt-landsberg.de/de/vak-ausgabe/event/30133,1290/lsv-partynacht-13-06-2025.html
ATTACH:https://www.stadt-landsberg.de/de/datei/anzeigen/id/30134,1290/facebookcover_-_partynacht_13.06.2025.png
END:VEVENT
END:VCALENDAR
