BEGIN:VCALENDAR
CALSCALE:GREGORIAN
METHOD:PUBLISH
VERSION:2.0
PRODID:-//iCalWriter OpenSource Project//iCalWriter 0.8.1//EN
BEGIN:VEVENT
DTSTAMP:20260421T113620Z
UID:1776771380tDFa@www.stadt-landsberg.de
DTSTART:20250928T130000
DTEND;VALUE=DATE:20250928
SUMMARY:Führung in der Doppelkapelle
DESCRIPTION:Informationen zu den Führungen finden Sie auf der Seite der Doppelkapelle.
LOCATION:Doppelkapelle Landsberg 06188 Landsberg
CATEGORIES:Kunst/ Kultur und Literatur,Straße der Romanik
URL:https://www.stadt-landsberg.de/de/vak-ausgabe/event/29137,1290/fuehrung-in-der-doppelkapelle-28-09-2025.html
ATTACH:https://www.stadt-landsberg.de/de/datei/anzeigen/id/29128,1290/20211203_103221.jpg
END:VEVENT
END:VCALENDAR
