BEGIN:VCALENDAR
CALSCALE:GREGORIAN
METHOD:PUBLISH
VERSION:2.0
PRODID:-//iCalWriter OpenSource Project//iCalWriter 0.8.1//EN
BEGIN:VEVENT
DTSTAMP:20260420T111642Z
UID:1776683802BDYT@www.stadt-landsberg.de
DTSTART:20231011T170000
DTEND:20231011T193000
SUMMARY:Bürgerinformationsveranstaltung
DESCRIPTION:Weiterführende Information finden Sie hier:
https://www.stadt-landsberg.de/de/aktuelles/buergerinformationsveranstaltung.html
Bitte beachten Sie auch die zugehörigen Dokumente.
LOCATION:Gemeindezentrum Peißen 06188 Landsberg / Peißen
CATEGORIES:Bildung/ Vorträge und Diskussionen,Fachmessen/ -veranstaltungen
URL:https://www.stadt-landsberg.de/de/vak-ausgabe/event/17417,1290/buergerinformationsveranstaltung-11-10-2023.html
ATTACH:https://www.stadt-landsberg.de/de/datei/anzeigen/id/17418,1290/presentation_310919_640.png
END:VEVENT
END:VCALENDAR
